BEGIN:VCALENDAR
VERSION:2.0
PRODID:-//Squarespace Inc/Squarespace 6//v6//EN
BEGIN:VEVENT
UID:5ca57594f9619a46a5ba3ce8@squarespace.com
DTSTAMP:20190404T031502Z
DTSTART:20190411T160000Z
DTEND:20190428T200000Z
SUMMARY:Exhibition 
END:VEVENT
END:VCALENDAR
