BEGIN:VCALENDAR
VERSION:2.0
PRODID:-//Squarespace Inc/Squarespace 6//v6//EN
BEGIN:VEVENT
UID:5db15fa480047a6a4f286299@squarespace.com
DTSTAMP:20191031T072330Z
DTSTART:20191109T160000Z
DTEND:20191109T210000Z
SUMMARY:Open Studio : Inner-city Trail
GEO:-35.278973;149.140169
LOCATION:FRATTEMPO\, 22 Allambee Street\, Reid ACT\, Australia
END:VEVENT
END:VCALENDAR
