BEGIN:VCALENDAR
VERSION:2.0
PRODID:-//Squarespace Inc/Squarespace 6//v6//EN
BEGIN:VEVENT
UID:5dba878971dd9c5025393a42@squarespace.com
DTSTAMP:20191031T071142Z
DTSTART:20191101T220000Z
DTEND:20191124T210000Z
SUMMARY:Exhibition - HOLD
GEO:-35.235963;149.068009
LOCATION:Belconnen Arts Centre
END:VEVENT
END:VCALENDAR
