BEGIN:VCALENDAR
VERSION:2.0
PRODID:-//Squarespace Inc/Squarespace 6//v6//EN
BEGIN:VEVENT
UID:5ae6d24570a6adc5614894ff@squarespace.com
DTSTAMP:20180606T040729Z
DTSTART:20180602T190000Z
DTEND:20180623T210000Z
SUMMARY:Exhibition : MUTABILIS 
GEO:-33.833231;151.257607
LOCATION:mustudio\, 8 Read Place\, Mosman\, NSW\, 2088\, Australia
END:VEVENT
END:VCALENDAR
