BEGIN:VCALENDAR
VERSION:2.0
PRODID:-//Squarespace Inc/Squarespace 6//v6//EN
BEGIN:VEVENT
UID:5c04c6f81ae6cfe06da045c2@squarespace.com
DTSTAMP:20181205T103636Z
DTSTART:20181213T150000Z
DTEND:20181223T210000Z
SUMMARY:Canberra Potters Christmas Fair
GEO:-35.231287;149.153881
LOCATION:Watson Arts Centre\, 1 Aspinall Street\, Watson ACT\, australia
END:VEVENT
END:VCALENDAR
