BEGIN:VCALENDAR
VERSION:2.0
PRODID:-//Squarespace Inc/Squarespace 6//v6//EN
BEGIN:VEVENT
UID:5a27bb0c9140b7da0f462597@squarespace.com
DTSTAMP:20171206T095906Z
DTSTART:20171207T150000Z
DTEND:20171223T210000Z
SUMMARY:Canberra Potters Christmas Fair
GEO:-35.231326;149.153939
LOCATION:canberra potters\, 1 Aspinall Street\, Watson\, ACT\, 2602\, Austr
 alia
END:VEVENT
END:VCALENDAR
