BEGIN:VCALENDAR
VERSION:2.0
PRODID:-//Squarespace Inc/Squarespace 6//v6//EN
BEGIN:VEVENT
UID:57426fc5d210b8671e0e9ab1@squarespace.com
DTSTAMP:20160718T022617Z
DTSTART:20160820T140000Z
DTEND:20160821T210000Z
SUMMARY:Australian Ceramics Open Studios
END:VEVENT
END:VCALENDAR
