BEGIN:VCALENDAR
VERSION:2.0
PRODID:-//Squarespace Inc/Squarespace 6//v6//EN
BEGIN:VEVENT
UID:580411022e69cf75b4a61da9@squarespace.com
DTSTAMP:20161017T012139Z
DTSTART:20161105T150000Z
DTEND:20161105T200000Z
SUMMARY:SLOW TEA: Open Studios Event (DESIGN Canberra Festival)
GEO:-35.231471;149.15415
LOCATION:Watson Arts Centre\, 1 Aspinall Street\, Watson\, ACT\, 2602\, Aus
 tralia
END:VEVENT
END:VCALENDAR
