BEGIN:VCALENDAR
VERSION:2.0
PRODID:-//Squarespace Inc/Squarespace 6//v6//EN
BEGIN:VEVENT
UID:5db15e16aa45d66460e685a5@squarespace.com
DTSTAMP:20191024T082348Z
DTSTART:20191025T170000Z
DTEND:20191025T200000Z
SUMMARY:You Are Here Festival
GEO:-35.279067;149.129971
LOCATION:verity lane\, Sydney building\, canberra\, Australia
END:VEVENT
END:VCALENDAR
