BEGIN:VCALENDAR
VERSION:2.0
PRODID:-//Squarespace Inc/Squarespace 6//v6//EN
BEGIN:VEVENT
UID:5b810dd86d2a73bb5c0c88b1@squarespace.com
DTSTAMP:20180825T081355Z
DTSTART:20180829T150000Z
DTEND:20180910T040000Z
SUMMARY:Little Things Art Prize 2018 Finalists' Exhibition
GEO:51.515973;-0.174943
LOCATION:St Cloche Gallery\, Paddington\, NSW
END:VEVENT
END:VCALENDAR
