BEGIN:VCALENDAR
VERSION:2.0
PRODID:-//Squarespace Inc/Squarespace 6//v6//EN
BEGIN:VEVENT
UID:5b175e0c6d2a73c2f8d82536@squarespace.com
DTSTAMP:20180615T045617Z
DTSTART:20180623T140000Z
DTEND:20180623T190000Z
SUMMARY:Makers and Shakers Market
END:VEVENT
END:VCALENDAR
