BEGIN:VCALENDAR
VERSION:2.0
PRODID:-//Squarespace Inc/Squarespace 6//v6//EN
BEGIN:VEVENT
UID:5a862b9553450abff5b18b45@squarespace.com
DTSTAMP:20180216T005931Z
DTSTART:20180224T230000Z
DTEND:20180225T000000Z
SUMMARY:Artist Talk
GEO:-35.231327;149.153938
LOCATION:canberra potters\, 1 Aspinall Street\, Watson\, ACT\, 2602\, Austr
 alia
END:VEVENT
END:VCALENDAR
