BEGIN:VCALENDAR
VERSION:2.0
PRODID:-//Squarespace Inc/Squarespace 6//v6//EN
BEGIN:VEVENT
UID:5c0496790ebbe8610244883c@squarespace.com
DTSTAMP:20181203T060119Z
DTSTART:20181202T030000Z
DTEND:20181223T220000Z
SUMMARY:POP CBR 
GEO:-35.284189;149.124538
LOCATION:Nishi  building\, New ACTon\, Canberra
END:VEVENT
END:VCALENDAR
