BEGIN:VCALENDAR
VERSION:2.0
PRODID:-//Squarespace Inc/Squarespace 6//v6//EN
BEGIN:VEVENT
UID:5bbc2ec6104c7b0b183425fb@squarespace.com
DTSTAMP:20181017T064029Z
DTSTART:20181110T160000Z
DTEND:20181110T210000Z
SUMMARY:Tea in the Potters' Garden
END:VEVENT
END:VCALENDAR
