BEGIN:VCALENDAR
VERSION:2.0
PRODID:-//Squarespace Inc/Squarespace 6//v6//EN
BEGIN:VEVENT
UID:5950a485414fb538a055a9c5@squarespace.com
DTSTAMP:20170626T062232Z
DTSTART:20170820T140000Z
DTEND:20170821T200000Z
SUMMARY:Australian Ceramics Open Studios
GEO:-35.231561;149.155734
LOCATION:watson Arts Centre
END:VEVENT
END:VCALENDAR
