BEGIN:VCALENDAR
VERSION:2.0
PRODID:-//Squarespace Inc/Squarespace 6//v6//EN
BEGIN:VEVENT
UID:5902dbde2994ca2181184cee@squarespace.com
DTSTAMP:20170503T023328Z
DTSTART:20170527T140000Z
DTEND:20170527T190000Z
SUMMARY:Makers and Shakers Canberra Market
END:VEVENT
END:VCALENDAR
