BEGIN:VCALENDAR
VERSION:2.0
PRODID:-//Squarespace Inc/Squarespace 6//v6//EN
BEGIN:VEVENT
UID:5a0b762b085229290610cbe1@squarespace.com
DTSTAMP:20171120T000532Z
DTSTART:20171124T220000Z
DTEND:20171127T220000Z
SUMMARY:Undercurrent Design Market
GEO:-35.299869;149.133835
LOCATION:national portrait gallery of australia
END:VEVENT
END:VCALENDAR
