BEGIN:VCALENDAR
VERSION:2.0
PRODID:-//Squarespace Inc/Squarespace 6//v6//EN
BEGIN:VEVENT
UID:59f70c7cc83025bbac2d3319@squarespace.com
DTSTAMP:20171030T162542Z
DTSTART:20171118T160000Z
DTEND:20171118T210000Z
SUMMARY:Tea in the Potters' Garden. DESIGN Canberra Festival Open Studio ev
 ent
GEO:-35.231309;149.155113
LOCATION:watson arts centre\, 1 Aspinall Street\, Watson\, ACT\, 2602\, Aus
 tralia
END:VEVENT
END:VCALENDAR
