BEGIN:VCALENDAR
VERSION:2.0
PRODID:-//Squarespace Inc/Squarespace 6//v6//EN
BEGIN:VEVENT
UID:59bba3ce03596eb137854a43@squarespace.com
DTSTAMP:20170915T100522Z
DTSTART:20170930T150000Z
DTEND:20171001T200000Z
SUMMARY:Exhibition Opening
GEO:-35.238065;149.149963
LOCATION:Gallery of Small Things\, 27 Wade St Downer\,\, ACT\, australia
END:VEVENT
END:VCALENDAR
