BEGIN:VCALENDAR
VERSION:2.0
PRODID:-//Squarespace Inc/Squarespace 6//v6//EN
BEGIN:VEVENT
UID:58453c849de4bb547a4ffd1f@squarespace.com
DTSTAMP:20161205T102455Z
DTSTART:20161208T150000Z
DTEND:20161223T210000Z
SUMMARY:Canberra Potters' Christmas Pop-up Sale
GEO:-35.230497;149.160027
LOCATION:Canberra Potters\, Aspinall Street\, Watson\, ACT\, 2602\, Austral
 ia
END:VEVENT
END:VCALENDAR
