BEGIN:VCALENDAR
VERSION:2.0
PRODID:-//Squarespace Inc/Squarespace 6//v6//EN
BEGIN:VEVENT
UID:583ba0a28419c204f72f897a@squarespace.com
DTSTAMP:20161128T031706Z
DTSTART:20161202T220000Z
DTEND:20161203T020000Z
SUMMARY:ECO Elves Night Market
GEO:-35.290093;149.11792
LOCATION:Canberra Environment Centre\, Lennox Crossing - Acton\, Canberra\, 
 Australia
END:VEVENT
END:VCALENDAR
