BEGIN:VCALENDAR
VERSION:2.0
PRODID:-//Squarespace Inc/Squarespace 6//v6//EN
BEGIN:VEVENT
UID:581ff31015d5dbd666e6e5fc@squarespace.com
DTSTAMP:20161107T042215Z
DTSTART:20161118T220000Z
DTEND:20161120T200000Z
SUMMARY:Undercurrent Design Market
GEO:-35.299223;149.131238
LOCATION:The Curatoreum\, King Edward Terrace\, Parkes\, ACT\, 2600\, Austr
 alia
END:VEVENT
END:VCALENDAR
