BEGIN:VCALENDAR
VERSION:2.0
PRODID:-//Squarespace Inc/Squarespace 6//v6//EN
BEGIN:VEVENT
UID:57d912cc03596ed2afa35c89@squarespace.com
DTSTAMP:20161017T010131Z
DTSTART:20161023T143000Z
DTEND:20161025T200000Z
SUMMARY:Canberra Potters Society Open Day
GEO:-35.231471;149.15415
LOCATION:Canberra Potters\, 1 Aspinall Street\, Watson\, ACT\, 2602\, Austr
 alia
END:VEVENT
END:VCALENDAR
